{
 "currentVersion": 10.81,
 "serviceDescription": "",
 "mapName": "マップ レイヤー",
 "description": "",
 "copyrightText": "",
 "supportsDynamicLayers": true,
 "layers": [
  {
   "id": 0,
   "name": "DummyService",
   "parentLayerId": -1,
   "defaultVisibility": true,
   "subLayerIds": null,
   "minScale": 0,
   "maxScale": 0,
   "type": "Feature Layer",
   "geometryType": "esriGeometryPoint"
  }
 ],
 "tables": [],
 "spatialReference": {
  "wkid": 2449,
  "latestWkid": 2449
 },
 "singleFusedMapCache": true,
 "tileInfo": {
  "rows": 256,
  "cols": 256,
  "dpi": 96,
  "format": "PNG",
  "compressionQuality": 0,
  "origin": {
   "x": -6184695.188776182,
   "y": 7015916.869891401
  },
  "spatialReference": {
   "wkid": 2449,
   "latestWkid": 2449
  },
  "lods": [
   {
    "level": 0,
    "resolution": 0.033072982812632296,
    "scale": 125
   }
  ]
 },
 "initialExtent": {
  "xmin": -1.4402946363101866E7,
  "ymin": -3911722.1294713556,
  "xmax": 1.4402946363101866E7,
  "ymax": 3381528.5352769126,
  "spatialReference": {
   "wkid": 2449,
   "latestWkid": 2449
  }
 },
 "fullExtent": {
  "xmin": -12000,
  "ymin": -112500,
  "xmax": 14000,
  "ymax": -87000,
  "spatialReference": {
   "wkid": 2449,
   "latestWkid": 2449
  }
 },
 "minScale": 125,
 "maxScale": 125,
 "units": "esriMeters",
 "supportedImageFormatTypes": "PNG32,PNG24,PNG,JPG,DIB,TIFF,EMF,PS,PDF,GIF,SVG,SVGZ,BMP",
 "documentInfo": {
  "Title": "",
  "Author": "",
  "Comments": "",
  "Subject": "",
  "Category": "",
  "AntialiasingMode": "None",
  "TextAntialiasingMode": "Force",
  "Keywords": ""
 },
 "capabilities": "Map,Query,Data",
 "supportedQueryFormats": "JSON, geoJSON",
 "exportTilesAllowed": false,
 "referenceScale": 0,
 "supportsDatumTransformation": true,
 "maxRecordCount": 1000,
 "maxImageHeight": 4096,
 "maxImageWidth": 4096,
 "supportedExtensions": "FeatureServer"
}
